BEGIN:VCALENDAR
VERSION:2.0
PRODID:-//Plone.org//NONSGML plone.app.event//EN
X-WR-TIMEZONE:America/Buenos_Aires
BEGIN:VEVENT
SUMMARY:Seminários do Programa de Pós-Graduação em Física Aplicada
DTSTART;TZID=America/Sao_Paulo;VALUE=DATE-TIME:20211027T162000
DTEND;TZID=America/Sao_Paulo;VALUE=DATE-TIME:20211027T180000
DTSTAMP;VALUE=DATE-TIME:20260424T071744Z
UID:736c4301176048e68a8631aeadcc7a05@portal.unila.edu.br
CATEGORIES:mestrado física
CREATED;VALUE=DATE-TIME:20211022T200145Z
DESCRIPTION:"Esfoliação de Materiais 2D" é o tema do próximo seminári
 o do PPGFISA\, que será no dia 27 de outubro\, às 16h20
LAST-MODIFIED;VALUE=DATE-TIME:20211022T210542Z
URL:https://portal.unila.edu.br/eventos/seminarios-do-programa-de-pos-grad
 uacao-em-fisica-aplicada-5
END:VEVENT
BEGIN:VTIMEZONE
TZID:America/Sao_Paulo
X-LIC-LOCATION:America/Sao_Paulo
BEGIN:DAYLIGHT
DTSTART;VALUE=DATE-TIME:20211017T010000
TZNAME:BRST
TZOFFSETFROM:-0300
TZOFFSETTO:-0200
END:DAYLIGHT
END:VTIMEZONE
END:VCALENDAR
