BEGIN:VCALENDAR
VERSION:2.0
PRODID:-//Plone.org//NONSGML plone.app.event//EN
X-WR-TIMEZONE:America/Buenos_Aires
BEGIN:VEVENT
SUMMARY:Seminários de Metodologia do PPGIELA
DTSTART;TZID=America/Sao_Paulo;VALUE=DATE-TIME:20191107T183000
DTEND;TZID=America/Sao_Paulo;VALUE=DATE-TIME:20191107T220000
DTSTAMP;VALUE=DATE-TIME:20260425T122930Z
UID:37f8f342e2a64e34af94ac10549aa05a@portal.unila.edu.br
CATEGORIES:mestrado estudos latino-americanos
CREATED;VALUE=DATE-TIME:20191105T142736Z
DESCRIPTION:"Educação Intercultural no México: modelo institucional e e
 xperiências"\, com Edilma de Jesus Desidério
LAST-MODIFIED;VALUE=DATE-TIME:20191106T192448Z
LOCATION:Bloco 4\, Espaço 3\, Sala 1 - UNILA-PTI (Avenida Tancredo Neves\
 , 6731)
URL:https://portal.unila.edu.br/eventos/seminarios-de-metodologia-do-ppgie
 la
END:VEVENT
BEGIN:VTIMEZONE
TZID:America/Sao_Paulo
X-LIC-LOCATION:America/Sao_Paulo
BEGIN:DAYLIGHT
DTSTART;VALUE=DATE-TIME:20191020T010000
TZNAME:BRST
TZOFFSETFROM:-0300
TZOFFSETTO:-0200
END:DAYLIGHT
END:VTIMEZONE
END:VCALENDAR
