BEGIN:VCALENDAR
VERSION:2.0
PRODID:-//Plone.org//NONSGML plone.app.event//EN
X-WR-TIMEZONE:America/Buenos_Aires
BEGIN:VEVENT
SUMMARY:Seminários de Geografia Física: aplicações nas grandes áreas
DTSTART;TZID=America/Sao_Paulo;VALUE=DATE-TIME:20210914T173000
DTEND;TZID=America/Sao_Paulo;VALUE=DATE-TIME:20210914T184500
DTSTAMP;VALUE=DATE-TIME:20260425T012003Z
UID:2ec59ce631824a31b236a55035f38d29@portal.unila.edu.br
CATEGORIES:geografia
CATEGORIES:geografia licenciatura
CREATED;VALUE=DATE-TIME:20210910T172115Z
DESCRIPTION:Com o tema "Os desafios da antropogeomorfologia"\, evento ser
 á no dia 14 de setembro\, às 17h30
LAST-MODIFIED;VALUE=DATE-TIME:20210910T175433Z
URL:https://portal.unila.edu.br/eventos/seminarios-de-geografia-fisica-apl
 icacoes-nas-grandes-areas
END:VEVENT
BEGIN:VTIMEZONE
TZID:America/Sao_Paulo
X-LIC-LOCATION:America/Sao_Paulo
BEGIN:STANDARD
DTSTART;VALUE=DATE-TIME:20210220T230000
TZNAME:BRT
TZOFFSETFROM:-0200
TZOFFSETTO:-0300
END:STANDARD
END:VTIMEZONE
END:VCALENDAR
