BEGIN:VCALENDAR
VERSION:2.0
PRODID:-//Plone.org//NONSGML plone.app.event//EN
X-WR-TIMEZONE:America/Buenos_Aires
BEGIN:VEVENT
SUMMARY:Seminários da Pós-Graduação em Física Aplicada
DTSTART;TZID=America/Buenos_Aires;VALUE=DATE-TIME:20241127T160000
DTSTAMP;VALUE=DATE-TIME:20260423T202139Z
UID:0785abd8e64242998b2502f248a39ec3@portal.unila.edu.br
CREATED;VALUE=DATE-TIME:20241125T124621Z
LAST-MODIFIED;VALUE=DATE-TIME:20241126T132423Z
LOCATION:UNILA - Itaipu Parquetec
URL:https://portal.unila.edu.br/eventos/seminarios-da-pos-graduacao-em-fis
 ica-aplicada
END:VEVENT
BEGIN:VTIMEZONE
TZID:America/Buenos_Aires
X-LIC-LOCATION:America/Buenos_Aires
BEGIN:STANDARD
DTSTART;VALUE=DATE-TIME:20090314T230000
TZNAME:ART
TZOFFSETFROM:-0200
TZOFFSETTO:-0300
END:STANDARD
END:VTIMEZONE
END:VCALENDAR
