BEGIN:VCALENDAR
VERSION:2.0
PRODID:-//Plone.org//NONSGML plone.app.event//EN
X-WR-TIMEZONE:America/Buenos_Aires
BEGIN:VEVENT
SUMMARY:Seminário de Física
DTSTART;TZID=America/Sao_Paulo;VALUE=DATE-TIME:20190904T162000
DTEND;TZID=America/Sao_Paulo;VALUE=DATE-TIME:20190904T172000
DTSTAMP;VALUE=DATE-TIME:20260422T095306Z
UID:32bb8b4b42364c6181101b1b1b87dccb@portal.unila.edu.br
CREATED;VALUE=DATE-TIME:20190902T201203Z
DESCRIPTION:Marcelo Hönnicke fala sobre feixe XBD residual
LAST-MODIFIED;VALUE=DATE-TIME:20190903T134550Z
URL:https://portal.unila.edu.br/eventos/seminarios-da-fisica-residual-x-ra
 y-back-diffraction
END:VEVENT
BEGIN:VTIMEZONE
TZID:America/Sao_Paulo
X-LIC-LOCATION:America/Sao_Paulo
BEGIN:STANDARD
DTSTART;VALUE=DATE-TIME:20190216T230000
TZNAME:BRT
TZOFFSETFROM:-0200
TZOFFSETTO:-0300
END:STANDARD
END:VTIMEZONE
END:VCALENDAR
