BEGIN:VCALENDAR
VERSION:2.0
PRODID:-//Plone.org//NONSGML plone.app.event//EN
X-WR-TIMEZONE:America/Buenos_Aires
BEGIN:VEVENT
SUMMARY:Seminário sobre simulação Hardware-in-the-loop (HIL) com a Typh
 oon HIL
DTSTART;TZID=America/Buenos_Aires;VALUE=DATE-TIME:20241011T100000
DTSTAMP;VALUE=DATE-TIME:20260424T101738Z
UID:6be1e65fcb9a4128a1e0753ce19e90d9@portal.unila.edu.br
CREATED;VALUE=DATE-TIME:20241009T111806Z
DESCRIPTION:As inscrições são limitadas e a atividade será no Auditór
 io César Lattes\, no Itaipu Parquetec.
LAST-MODIFIED;VALUE=DATE-TIME:20241009T111948Z
LOCATION:Auditório César Lattes - Itaipu Parquetec
URL:https://portal.unila.edu.br/eventos/seminario-sobre-simulacao-hardware
 -in-the-loop-hil-com-a-typhoon-hil
END:VEVENT
BEGIN:VTIMEZONE
TZID:America/Buenos_Aires
X-LIC-LOCATION:America/Buenos_Aires
BEGIN:STANDARD
DTSTART;VALUE=DATE-TIME:20090314T230000
TZNAME:ART
TZOFFSETFROM:-0200
TZOFFSETTO:-0300
END:STANDARD
END:VTIMEZONE
END:VCALENDAR
