BEGIN:VCALENDAR
VERSION:2.0
PRODID:-//Plone.org//NONSGML plone.app.event//EN
X-WR-TIMEZONE:America/Buenos_Aires
BEGIN:VEVENT
SUMMARY:Fórum de Internacionalização
DTSTART;TZID=America/Buenos_Aires;VALUE=DATE-TIME:20240311T140000
DTSTAMP;VALUE=DATE-TIME:20260423T225010Z
UID:7ec7f5e888fa4e1a9441b4e4546d54e4@portal.unila.edu.br
CREATED;VALUE=DATE-TIME:20240307T183031Z
DESCRIPTION:GT que tem como objetivo analisar a viabilidade de criação d
 e um instituto binacional com o Paraguai organiza\, no dia 11 de março\, 
 no JU\, o Fórum de Internacionalização.
LAST-MODIFIED;VALUE=DATE-TIME:20240307T210604Z
LOCATION:Auditório da UNILA-Jardim Universitário (Avenida Tarquínio Jos
 lin dos Santos\, 1000)
URL:https://portal.unila.edu.br/eventos/seminario-sobre-integracao-regiona
 l
END:VEVENT
BEGIN:VTIMEZONE
TZID:America/Buenos_Aires
X-LIC-LOCATION:America/Buenos_Aires
BEGIN:STANDARD
DTSTART;VALUE=DATE-TIME:20090314T230000
TZNAME:ART
TZOFFSETFROM:-0200
TZOFFSETTO:-0300
END:STANDARD
END:VTIMEZONE
END:VCALENDAR
