BEGIN:VCALENDAR
VERSION:2.0
PRODID:-//Plone.org//NONSGML plone.app.event//EN
X-WR-TIMEZONE:America/Buenos_Aires
BEGIN:VEVENT
SUMMARY:Seminário sobre a Petrobrás
DTSTART;TZID=America/Buenos_Aires;VALUE=DATE-TIME:20220706T183000
DTEND;TZID=America/Buenos_Aires;VALUE=DATE-TIME:20220706T200000
DTSTAMP;VALUE=DATE-TIME:20260424T041016Z
UID:98faac9143a24692adec55719a63b9f5@portal.unila.edu.br
CONTACT:https://conferenciaweb.rnp.br/webconf/ricardo-morel-hartmann
CREATED;VALUE=DATE-TIME:20220630T182518Z
DESCRIPTION:O Grupo de Pesquisa em Mobilidade e Matriz Energética da UNIL
 A promove evento que irá tratar sobre a história da Petrobrás
LAST-MODIFIED;VALUE=DATE-TIME:20220630T182528Z
LOCATION:Videoconferência
URL:https://portal.unila.edu.br/eventos/seminario-sobre-a-petrobras
END:VEVENT
BEGIN:VTIMEZONE
TZID:America/Buenos_Aires
X-LIC-LOCATION:America/Buenos_Aires
BEGIN:STANDARD
DTSTART;VALUE=DATE-TIME:20090314T230000
TZNAME:ART
TZOFFSETFROM:-0200
TZOFFSETTO:-0300
END:STANDARD
END:VTIMEZONE
END:VCALENDAR
