BEGIN:VCALENDAR
VERSION:2.0
PRODID:-//Plone.org//NONSGML plone.app.event//EN
X-WR-TIMEZONE:America/Buenos_Aires
BEGIN:VEVENT
SUMMARY:Seminário PPGFISA  - Profa. Dra. Grazielle de Oliveira
DTSTART;TZID=America/Sao_Paulo;VALUE=DATE-TIME:20190424T162000
DTEND;TZID=America/Sao_Paulo;VALUE=DATE-TIME:20190424T172000
DTSTAMP;VALUE=DATE-TIME:20260423T225537Z
UID:1cf060c49c514a31ae76743e6fa60a46@portal.unila.edu.br
CREATED;VALUE=DATE-TIME:20190423T124136Z
DESCRIPTION:Seminário "Uso de sistema de sputtering na produção de supe
 rfícies nanoestruturadas de óxidos metálicos para aplicação em sensor
 es” pela Profa. Dra. Grazielle de Oliveira Setti Gibin | ILACVN - UNILA.
LAST-MODIFIED;VALUE=DATE-TIME:20190423T124204Z
LOCATION:Bloco 04\, Espaço 03\, Sala 01- Campus UNILA PTI
URL:https://portal.unila.edu.br/eventos/seminario-ppgfisa-profa-dra-grazie
 lle-de-oliveira
END:VEVENT
BEGIN:VTIMEZONE
TZID:America/Sao_Paulo
X-LIC-LOCATION:America/Sao_Paulo
BEGIN:STANDARD
DTSTART;VALUE=DATE-TIME:20190216T230000
TZNAME:BRT
TZOFFSETFROM:-0200
TZOFFSETTO:-0300
END:STANDARD
END:VTIMEZONE
END:VCALENDAR
