BEGIN:VCALENDAR
VERSION:2.0
PRODID:-//Plone.org//NONSGML plone.app.event//EN
X-WR-TIMEZONE:America/Buenos_Aires
BEGIN:VEVENT
SUMMARY:Seminário do PPGFISA
DTSTART;TZID=America/Sao_Paulo;VALUE=DATE-TIME:20190605T161500
DTEND;TZID=America/Sao_Paulo;VALUE=DATE-TIME:20190605T191500
DTSTAMP;VALUE=DATE-TIME:20260423T210016Z
UID:55c87610b367435aad363a0268c36546@portal.unila.edu.br
CREATED;VALUE=DATE-TIME:20190520T124357Z
DESCRIPTION:“Pipoca: um encontro explosivo entre física e matemática
 ”
LAST-MODIFIED;VALUE=DATE-TIME:20190604T164616Z
LOCATION:Bloco 4\, Espaço 3\, Sala 1- UNILA-PTI
URL:https://portal.unila.edu.br/eventos/seminario-ppgfisa-2
END:VEVENT
BEGIN:VTIMEZONE
TZID:America/Sao_Paulo
X-LIC-LOCATION:America/Sao_Paulo
BEGIN:STANDARD
DTSTART;VALUE=DATE-TIME:20190216T230000
TZNAME:BRT
TZOFFSETFROM:-0200
TZOFFSETTO:-0300
END:STANDARD
END:VTIMEZONE
END:VCALENDAR
