BEGIN:VCALENDAR
VERSION:2.0
PRODID:-//Plone.org//NONSGML plone.app.event//EN
X-WR-TIMEZONE:America/Buenos_Aires
BEGIN:VEVENT
SUMMARY:Seminário "O mundo do trabalho e o Acordo Mercosul-União Europei
 a"
DTSTART;TZID=America/Buenos_Aires;VALUE=DATE-TIME:20250910T090000
DTEND;TZID=America/Buenos_Aires;VALUE=DATE-TIME:20250911T180000
DTSTAMP;VALUE=DATE-TIME:20260424T010353Z
UID:867a52473e7c47a7ae07377e0eead7aa@portal.unila.edu.br
CREATED;VALUE=DATE-TIME:20250828T163619Z
DESCRIPTION:Evento no Jardim Universitário reunirá principais negociador
 es dos poderes executivos e legislativos nacionais e regionais\, centrais 
 sindicais do Mercosul\, acadêmicos especialistas e trabalhadores da regi
 ão.
LAST-MODIFIED;VALUE=DATE-TIME:20250829T115958Z
LOCATION:UNILA - Jardim Universitário
URL:https://portal.unila.edu.br/eventos/seminario-o-mundo-do-trabalho-e-o-
 acordo-mercosul-uniao-europeia
END:VEVENT
BEGIN:VTIMEZONE
TZID:America/Buenos_Aires
X-LIC-LOCATION:America/Buenos_Aires
BEGIN:STANDARD
DTSTART;VALUE=DATE-TIME:20090314T230000
TZNAME:ART
TZOFFSETFROM:-0200
TZOFFSETTO:-0300
END:STANDARD
END:VTIMEZONE
END:VCALENDAR
