BEGIN:VCALENDAR
VERSION:2.0
PRODID:-//Plone.org//NONSGML plone.app.event//EN
X-WR-TIMEZONE:America/Buenos_Aires
BEGIN:VEVENT
SUMMARY:Seminário: "Nanomateriais: busca por novas funções e aplicaçõ
 es"
DTSTART;TZID=America/Sao_Paulo;VALUE=DATE-TIME:20210623T161500
DTEND;TZID=America/Sao_Paulo;VALUE=DATE-TIME:20210623T180000
DTSTAMP;VALUE=DATE-TIME:20260425T093502Z
UID:4450ab721d134ba79e23ef7d7229454c@portal.unila.edu.br
CATEGORIES:mestrado física
CREATED;VALUE=DATE-TIME:20210622T125843Z
DESCRIPTION:O Programa de Pós-Graduação em Física Aplicada promove ati
 vidade para esta quarta-feira (23)
LAST-MODIFIED;VALUE=DATE-TIME:20210622T130249Z
URL:https://portal.unila.edu.br/eventos/seminario-nanomateriais-busca-por-
 novas-funcoes-e-aplicacoes
END:VEVENT
BEGIN:VTIMEZONE
TZID:America/Sao_Paulo
X-LIC-LOCATION:America/Sao_Paulo
BEGIN:STANDARD
DTSTART;VALUE=DATE-TIME:20210220T230000
TZNAME:BRT
TZOFFSETFROM:-0200
TZOFFSETTO:-0300
END:STANDARD
END:VTIMEZONE
END:VCALENDAR
