BEGIN:VCALENDAR
VERSION:2.0
PRODID:-//Plone.org//NONSGML plone.app.event//EN
X-WR-TIMEZONE:America/Buenos_Aires
BEGIN:VEVENT
SUMMARY:Seminário Internacional
DTSTART;TZID=America/Buenos_Aires;VALUE=DATE-TIME:20231005T084000
DTEND;TZID=America/Buenos_Aires;VALUE=DATE-TIME:20231006T123000
DTSTAMP;VALUE=DATE-TIME:20260423T205822Z
UID:cbe900bac1394da481a9d66c45153a4f@portal.unila.edu.br
CONTACT:https://inctpped.ie.ufrj.br/internationalseminar/
CREATED;VALUE=DATE-TIME:20230926T120626Z
DESCRIPTION:Seminário "Perspectivas Comparativas das Capacidades Estatais
  na América Latina: variedades de capitalismo\, desigualdades e desenvolv
 imento" acontece nos dias 05 e 06 de outubro
LAST-MODIFIED;VALUE=DATE-TIME:20230926T120645Z
LOCATION:Auditório Campus Integração – UNILA - Avenida Tancredo Neves
 \, 3147 - Porto Belo
URL:https://portal.unila.edu.br/eventos/seminario-internacional
END:VEVENT
BEGIN:VTIMEZONE
TZID:America/Buenos_Aires
X-LIC-LOCATION:America/Buenos_Aires
BEGIN:STANDARD
DTSTART;VALUE=DATE-TIME:20090314T230000
TZNAME:ART
TZOFFSETFROM:-0200
TZOFFSETTO:-0300
END:STANDARD
END:VTIMEZONE
END:VCALENDAR
