BEGIN:VCALENDAR
VERSION:2.0
PRODID:-//Plone.org//NONSGML plone.app.event//EN
X-WR-TIMEZONE:America/Buenos_Aires
BEGIN:VEVENT
SUMMARY:Seminário Internacional “Unidade pela Paz no Mundo”
DTSTART;TZID=America/Buenos_Aires;VALUE=DATE-TIME:20251108T080000
DTEND;TZID=America/Buenos_Aires;VALUE=DATE-TIME:20251108T180000
DTSTAMP;VALUE=DATE-TIME:20260424T010756Z
UID:80ed4bd636384dcba0d0d0be678ea403@portal.unila.edu.br
CREATED;VALUE=DATE-TIME:20251028T115518Z
DESCRIPTION:O Seminário Internacional “Unidade pela Paz no Mundo” ser
 á realizado no dia 8 de novembro\, das 8h às 18h\, no Auditório Lélia 
 Gonzalez\, no Campus Integração da UNILA.
LAST-MODIFIED;VALUE=DATE-TIME:20251029T111803Z
LOCATION:UNILA - Campus Integração
URL:https://portal.unila.edu.br/eventos/seminario-internacional-201cunidad
 e-pela-paz-no-mundo201d
END:VEVENT
BEGIN:VTIMEZONE
TZID:America/Buenos_Aires
X-LIC-LOCATION:America/Buenos_Aires
BEGIN:STANDARD
DTSTART;VALUE=DATE-TIME:20090314T230000
TZNAME:ART
TZOFFSETFROM:-0200
TZOFFSETTO:-0300
END:STANDARD
END:VTIMEZONE
END:VCALENDAR
