BEGIN:VCALENDAR
VERSION:2.0
PRODID:-//Plone.org//NONSGML plone.app.event//EN
X-WR-TIMEZONE:America/Buenos_Aires
BEGIN:VEVENT
SUMMARY:Seminário em Relações Internacionais
DTSTART;TZID=America/Sao_Paulo;VALUE=DATE-TIME:20190507T190000
DTSTAMP;VALUE=DATE-TIME:20260424T112122Z
UID:1d30621d5e8a4dfcb9015cb23688aee9@portal.unila.edu.br
CREATED;VALUE=DATE-TIME:20190503T202224Z
DESCRIPTION:Evento terá como tema “O Alto Comissariado da ONU para os D
 ireitos Humanos: avanços\, limites e potencialidades”
LAST-MODIFIED;VALUE=DATE-TIME:20190503T202243Z
LOCATION:PTI (Florestan Fernandes 3)
URL:https://portal.unila.edu.br/eventos/seminario-em-relacoes-internaciona
 is
END:VEVENT
BEGIN:VTIMEZONE
TZID:America/Sao_Paulo
X-LIC-LOCATION:America/Sao_Paulo
BEGIN:STANDARD
DTSTART;VALUE=DATE-TIME:20190216T230000
TZNAME:BRT
TZOFFSETFROM:-0200
TZOFFSETTO:-0300
END:STANDARD
END:VTIMEZONE
END:VCALENDAR
