BEGIN:VCALENDAR
VERSION:2.0
PRODID:-//Plone.org//NONSGML plone.app.event//EN
X-WR-TIMEZONE:America/Buenos_Aires
BEGIN:VEVENT
SUMMARY:Seminário e exposição
DTSTART;VALUE=DATE:20250625
DTEND;VALUE=DATE:20250629
DTSTAMP;VALUE=DATE-TIME:20260423T210017Z
UID:9b6dc6461a0e4f159c604a128bb7b414@portal.unila.edu.br
CREATED;VALUE=DATE-TIME:20250623T140618Z
DESCRIPTION:O Seminário "Subjetividades em Transição: caminhos para a c
 onstrução de sociedades sustentáveis e regenerativas" e a Exposição d
 e Cartazes "O Legado Ambiental de Moema Viezzer" serão realizados de 25 a
  28 de junho\, no Campus Integração.
LAST-MODIFIED;VALUE=DATE-TIME:20250623T154549Z
LOCATION:UNILA - Campus Integração
URL:https://portal.unila.edu.br/eventos/seminario-e-exposicao
END:VEVENT
END:VCALENDAR
