BEGIN:VCALENDAR
VERSION:2.0
PRODID:-//Plone.org//NONSGML plone.app.event//EN
X-WR-TIMEZONE:America/Buenos_Aires
BEGIN:VEVENT
SUMMARY:Seminário do Programa de Pós-Graduação em Física Aplicada
DTSTART;TZID=America/Sao_Paulo;VALUE=DATE-TIME:20190619T161500
DTEND;TZID=America/Sao_Paulo;VALUE=DATE-TIME:20190619T180000
DTSTAMP;VALUE=DATE-TIME:20260424T041120Z
UID:441900fa137c4876ad984711f5a2414c@portal.unila.edu.br
CREATED;VALUE=DATE-TIME:20190617T125831Z
DESCRIPTION:“Buracos negros existem. E agora?”
LAST-MODIFIED;VALUE=DATE-TIME:20190617T133744Z
LOCATION:Bloco 4\, Espaço 3\, Sala 1 - UNILA-PTI (Avenida Tancredo Neves\
 , 6731)
URL:https://portal.unila.edu.br/eventos/seminario-do-programa-de-pos-gradu
 acao-em-fisica-aplicada-1
END:VEVENT
BEGIN:VTIMEZONE
TZID:America/Sao_Paulo
X-LIC-LOCATION:America/Sao_Paulo
BEGIN:STANDARD
DTSTART;VALUE=DATE-TIME:20190216T230000
TZNAME:BRT
TZOFFSETFROM:-0200
TZOFFSETTO:-0300
END:STANDARD
END:VTIMEZONE
END:VCALENDAR
