BEGIN:VCALENDAR
VERSION:2.0
PRODID:-//Plone.org//NONSGML plone.app.event//EN
X-WR-TIMEZONE:America/Buenos_Aires
BEGIN:VEVENT
SUMMARY:Seminario: "Desafíos de las juventudes fronterizas de Foz do Igua
 çu y Ciudad del Este: educación\, salud\, trabajo y Covid-19”
DTSTART;TZID=America/Sao_Paulo;VALUE=DATE-TIME:20210623T190000
DTEND;TZID=America/Sao_Paulo;VALUE=DATE-TIME:20210623T210000
DTSTAMP;VALUE=DATE-TIME:20260424T085707Z
UID:db124b4ebbaa44e89b9d48a820fe56ce@portal.unila.edu.br
CREATED;VALUE=DATE-TIME:20210621T224243Z
DESCRIPTION:La actividad se realizará el próximo miércoles (23)\, a las
  19h
LAST-MODIFIED;VALUE=DATE-TIME:20210621T225053Z
URL:https://portal.unila.edu.br/eventos/seminario-desafios-de-las-juventud
 es-fronterizas-de-foz-do-iguacu-y-ciudad-del-este-educacion-salud-trabajo-
 y-covid-19201d
END:VEVENT
BEGIN:VTIMEZONE
TZID:America/Sao_Paulo
X-LIC-LOCATION:America/Sao_Paulo
BEGIN:STANDARD
DTSTART;VALUE=DATE-TIME:20210220T230000
TZNAME:BRT
TZOFFSETFROM:-0200
TZOFFSETTO:-0300
END:STANDARD
END:VTIMEZONE
END:VCALENDAR
