BEGIN:VCALENDAR
VERSION:2.0
PRODID:-//Plone.org//NONSGML plone.app.event//EN
X-WR-TIMEZONE:America/Buenos_Aires
BEGIN:VEVENT
SUMMARY:Seminário de Relações Internacionais
DTSTART;TZID=America/Sao_Paulo;VALUE=DATE-TIME:20190604T190000
DTEND;TZID=America/Sao_Paulo;VALUE=DATE-TIME:20190604T200000
DTSTAMP;VALUE=DATE-TIME:20260424T101604Z
UID:b8a153779e744eef8302938dcea97ec0@portal.unila.edu.br
CREATED;VALUE=DATE-TIME:20190524T131838Z
DESCRIPTION:Palestra sobre "Regionalismo comparado"
LAST-MODIFIED;VALUE=DATE-TIME:20190604T181303Z
LOCATION:UNILA-PTI
URL:https://portal.unila.edu.br/eventos/seminario-de-relacoes-internaciona
 is
END:VEVENT
BEGIN:VTIMEZONE
TZID:America/Sao_Paulo
X-LIC-LOCATION:America/Sao_Paulo
BEGIN:STANDARD
DTSTART;VALUE=DATE-TIME:20190216T230000
TZNAME:BRT
TZOFFSETFROM:-0200
TZOFFSETTO:-0300
END:STANDARD
END:VTIMEZONE
END:VCALENDAR
