BEGIN:VCALENDAR
VERSION:2.0
PRODID:-//Plone.org//NONSGML plone.app.event//EN
X-WR-TIMEZONE:America/Buenos_Aires
BEGIN:VEVENT
SUMMARY:Seminário de Relações Internacionais e Lançamento da Revista C
 idadania Mercosul
DTSTART;TZID=America/Sao_Paulo;VALUE=DATE-TIME:20190404T140000
DTEND;TZID=America/Sao_Paulo;VALUE=DATE-TIME:20190404T150000
DTSTAMP;VALUE=DATE-TIME:20260423T230431Z
UID:21cdaf07d3c846b589b110e7558f9012@portal.unila.edu.br
CREATED;VALUE=DATE-TIME:20190327T130648Z
DESCRIPTION:Seminário integrante do evento de Pós Graduação de Relaç
 ões Internacionais\, com lançamento da Revista Cidadania Mercosul. Event
 o parte da recepção do Instituto Social do Mercosul.
LAST-MODIFIED;VALUE=DATE-TIME:20190402T132134Z
LOCATION:Florestan Fernandes 1 - UNILA Campus PTI
URL:https://portal.unila.edu.br/eventos/seminario-de-relacoes-internaciona
 is-e-lancamento-da-revista-cidadania-mercosul
END:VEVENT
BEGIN:VTIMEZONE
TZID:America/Sao_Paulo
X-LIC-LOCATION:America/Sao_Paulo
BEGIN:STANDARD
DTSTART;VALUE=DATE-TIME:20190216T230000
TZNAME:BRT
TZOFFSETFROM:-0200
TZOFFSETTO:-0300
END:STANDARD
END:VTIMEZONE
END:VCALENDAR
