BEGIN:VCALENDAR
VERSION:2.0
PRODID:-//Plone.org//NONSGML plone.app.event//EN
X-WR-TIMEZONE:America/Buenos_Aires
BEGIN:VEVENT
SUMMARY:Seminário de Política Estudantil na UNILA
DTSTART;TZID=America/Sao_Paulo;VALUE=DATE-TIME:20210420T180000
DTEND;TZID=America/Sao_Paulo;VALUE=DATE-TIME:20210420T200000
DTSTAMP;VALUE=DATE-TIME:20260424T041228Z
UID:9e21607613104661bb8a9eabab622c5f@portal.unila.edu.br
CREATED;VALUE=DATE-TIME:20210212T195951Z
DESCRIPTION:"Políticas afirmativas e assistência estudantil” é a tem
 ática do próximo debate\, que será no dia 20 de abril
LAST-MODIFIED;VALUE=DATE-TIME:20210212T210003Z
URL:https://portal.unila.edu.br/eventos/seminario-de-politica-estudantil-n
 a-unila-4
END:VEVENT
BEGIN:VTIMEZONE
TZID:America/Sao_Paulo
X-LIC-LOCATION:America/Sao_Paulo
BEGIN:STANDARD
DTSTART;VALUE=DATE-TIME:20210220T230000
TZNAME:BRT
TZOFFSETFROM:-0200
TZOFFSETTO:-0300
END:STANDARD
END:VTIMEZONE
END:VCALENDAR
