BEGIN:VCALENDAR
VERSION:2.0
PRODID:-//Plone.org//NONSGML plone.app.event//EN
X-WR-TIMEZONE:America/Buenos_Aires
BEGIN:VEVENT
SUMMARY:Seminário da Pós-Graduação em Física Aplicada
DTSTART;TZID=America/Buenos_Aires;VALUE=DATE-TIME:20241002T160000
DTEND;TZID=America/Buenos_Aires;VALUE=DATE-TIME:20241002T180000
DTSTAMP;VALUE=DATE-TIME:20260424T112551Z
UID:971659a56976444c9ef742dc554c6e0b@portal.unila.edu.br
CREATED;VALUE=DATE-TIME:20240930T165343Z
DESCRIPTION:Esta edição do Seminário terá como palestrante Carlos Barr
 os de Araújo\, do Instituto de Biologia Subtropical\, de Puerto Iguazú\,
  na Argentina\, com o trabalho intitulado "Acústica selvagem".
LAST-MODIFIED;VALUE=DATE-TIME:20240930T165433Z
LOCATION:Itaipu Parquetec (bloco 4\, espaço 3\, sala 1)
URL:https://portal.unila.edu.br/eventos/seminario-da-pos-graduacao-em-fisi
 ca-aplicada-9
END:VEVENT
BEGIN:VTIMEZONE
TZID:America/Buenos_Aires
X-LIC-LOCATION:America/Buenos_Aires
BEGIN:STANDARD
DTSTART;VALUE=DATE-TIME:20090314T230000
TZNAME:ART
TZOFFSETFROM:-0200
TZOFFSETTO:-0300
END:STANDARD
END:VTIMEZONE
END:VCALENDAR
