BEGIN:VCALENDAR
VERSION:2.0
PRODID:-//Plone.org//NONSGML plone.app.event//EN
X-WR-TIMEZONE:America/Buenos_Aires
BEGIN:VEVENT
SUMMARY:Seminário da Pós-Graduação em Física Aplicada
DTSTART;TZID=America/Buenos_Aires;VALUE=DATE-TIME:20241009T160000
DTEND;TZID=America/Buenos_Aires;VALUE=DATE-TIME:20241009T180000
DTSTAMP;VALUE=DATE-TIME:20260424T032326Z
UID:8ef4f5f01e404c22b6d0f7ca166a52f3@portal.unila.edu.br
CREATED;VALUE=DATE-TIME:20240930T121116Z
DESCRIPTION:Nova edição do Seminário da Pós-Graduação em Física Apl
 icada\, que acontece no dia 9 de outubro\, terá como palestrante o profes
 sor da UNILA Joylan Nunes Maciel\, com o trabalho intitulado "Inteligênci
 a artificial aplicada à predição da geração de energia solar fotovolt
 aica".
LAST-MODIFIED;VALUE=DATE-TIME:20240930T121305Z
LOCATION:Itaipu Parquetec (bloco 4\, espaço 3\, sala 1)
URL:https://portal.unila.edu.br/eventos/seminario-da-pos-graduacao-em-fisi
 ca-aplicada-7
END:VEVENT
BEGIN:VTIMEZONE
TZID:America/Buenos_Aires
X-LIC-LOCATION:America/Buenos_Aires
BEGIN:STANDARD
DTSTART;VALUE=DATE-TIME:20090314T230000
TZNAME:ART
TZOFFSETFROM:-0200
TZOFFSETTO:-0300
END:STANDARD
END:VTIMEZONE
END:VCALENDAR
