BEGIN:VCALENDAR
VERSION:2.0
PRODID:-//Plone.org//NONSGML plone.app.event//EN
X-WR-TIMEZONE:America/Buenos_Aires
BEGIN:VEVENT
SUMMARY:Seminário da Pós-Graduação em Física-Aplicada
DTSTART;TZID=America/Buenos_Aires;VALUE=DATE-TIME:20231101T143000
DTSTAMP;VALUE=DATE-TIME:20260424T045758Z
UID:d8547dfce00e46cfb2f7f6b9f927cea0@portal.unila.edu.br
CREATED;VALUE=DATE-TIME:20231030T202908Z
DESCRIPTION:Atividade ministrada pela Dra. Johanna Pacheco (UERJ) acontece
  no dia 1º de novembro\, às 14h30\, na UNILA-PTI
LAST-MODIFIED;VALUE=DATE-TIME:20231030T202916Z
LOCATION:UNILA-PTI - Bloco 04\, Espaço 03\, Sala 1
URL:https://portal.unila.edu.br/eventos/seminario-da-pos-graduacao-em-fisi
 ca-aplicada-4
END:VEVENT
BEGIN:VTIMEZONE
TZID:America/Buenos_Aires
X-LIC-LOCATION:America/Buenos_Aires
BEGIN:STANDARD
DTSTART;VALUE=DATE-TIME:20090314T230000
TZNAME:ART
TZOFFSETFROM:-0200
TZOFFSETTO:-0300
END:STANDARD
END:VTIMEZONE
END:VCALENDAR
