BEGIN:VCALENDAR
VERSION:2.0
PRODID:-//Plone.org//NONSGML plone.app.event//EN
X-WR-TIMEZONE:America/Buenos_Aires
BEGIN:VEVENT
SUMMARY:Seminário da Pós-Graduação em Física Aplicada
DTSTART;TZID=America/Buenos_Aires;VALUE=DATE-TIME:20251001T160000
DTEND;TZID=America/Buenos_Aires;VALUE=DATE-TIME:20251002T180000
DTSTAMP;VALUE=DATE-TIME:20260424T051104Z
UID:9e21a275a37a483988e2ed197181a0b7@portal.unila.edu.br
CREATED;VALUE=DATE-TIME:20250929T170350Z
DESCRIPTION:Evento apresentará pesquisa sobre tecnologia a plasma e suas 
 aplicações no processamento de materiais.
LAST-MODIFIED;VALUE=DATE-TIME:20250929T170432Z
LOCATION:UNILA - ITAIPU Parquetec
URL:https://portal.unila.edu.br/eventos/seminario-da-pos-graduacao-em-fisi
 ca-aplicada-22
END:VEVENT
BEGIN:VTIMEZONE
TZID:America/Buenos_Aires
X-LIC-LOCATION:America/Buenos_Aires
BEGIN:STANDARD
DTSTART;VALUE=DATE-TIME:20090314T230000
TZNAME:ART
TZOFFSETFROM:-0200
TZOFFSETTO:-0300
END:STANDARD
END:VTIMEZONE
END:VCALENDAR
