BEGIN:VCALENDAR
VERSION:2.0
PRODID:-//Plone.org//NONSGML plone.app.event//EN
X-WR-TIMEZONE:America/Buenos_Aires
BEGIN:VEVENT
SUMMARY:Seminário da Pós-Graduação em Física Aplicada
DTSTART;TZID=America/Buenos_Aires;VALUE=DATE-TIME:20250423T160000
DTEND;TZID=America/Buenos_Aires;VALUE=DATE-TIME:20250423T180000
DTSTAMP;VALUE=DATE-TIME:20260423T225217Z
UID:54087c8e1902442baba7923e05b6e402@portal.unila.edu.br
CREATED;VALUE=DATE-TIME:20250422T122037Z
DESCRIPTION:Evento contará com a apresentação do professor José Ricard
 o Cezar Salgado (ILACVN).
LAST-MODIFIED;VALUE=DATE-TIME:20250422T122105Z
LOCATION:Itaipu Parquetec
URL:https://portal.unila.edu.br/eventos/seminario-da-pos-graduacao-em-fisi
 ca-aplicada-14
END:VEVENT
BEGIN:VTIMEZONE
TZID:America/Buenos_Aires
X-LIC-LOCATION:America/Buenos_Aires
BEGIN:STANDARD
DTSTART;VALUE=DATE-TIME:20090314T230000
TZNAME:ART
TZOFFSETFROM:-0200
TZOFFSETTO:-0300
END:STANDARD
END:VTIMEZONE
END:VCALENDAR
