BEGIN:VCALENDAR
VERSION:2.0
PRODID:-//Plone.org//NONSGML plone.app.event//EN
X-WR-TIMEZONE:America/Buenos_Aires
BEGIN:VEVENT
SUMMARY:Seminário Agenda Tríplice
DTSTART;TZID=America/Buenos_Aires;VALUE=DATE-TIME:20241004T080000
DTEND;TZID=America/Buenos_Aires;VALUE=DATE-TIME:20241004T170000
DTSTAMP;VALUE=DATE-TIME:20260423T133533Z
UID:b0867e590c6f49528fa6a40ede158820@portal.unila.edu.br
CREATED;VALUE=DATE-TIME:20240930T125257Z
DESCRIPTION:Com o tema "Construção em desenvolvimento: sustentabilidade\
 , inovação e desempenho ambiental"\, o evento será realizado no Itaipu 
 Parquetec\, Sala Florestan Fernandes 3.
LAST-MODIFIED;VALUE=DATE-TIME:20240930T125412Z
LOCATION:Itaipu Parquetec - Sala Florestan Fernandes 3
URL:https://portal.unila.edu.br/eventos/seminario-agenda-triplice
END:VEVENT
BEGIN:VTIMEZONE
TZID:America/Buenos_Aires
X-LIC-LOCATION:America/Buenos_Aires
BEGIN:STANDARD
DTSTART;VALUE=DATE-TIME:20090314T230000
TZNAME:ART
TZOFFSETFROM:-0200
TZOFFSETTO:-0300
END:STANDARD
END:VTIMEZONE
END:VCALENDAR
