BEGIN:VCALENDAR
VERSION:2.0
PRODID:-//Plone.org//NONSGML plone.app.event//EN
X-WR-TIMEZONE:America/Buenos_Aires
BEGIN:VEVENT
SUMMARY:Seminário: “Biomateriais: desafios\, perspectivas e aplicaçõe
 s”
DTSTART;TZID=America/Sao_Paulo;VALUE=DATE-TIME:20190410T162000
DTEND;TZID=America/Sao_Paulo;VALUE=DATE-TIME:20190410T172000
DTSTAMP;VALUE=DATE-TIME:20260423T225214Z
UID:794cffff101f4cda9a65b43501224e33@portal.unila.edu.br
CREATED;VALUE=DATE-TIME:20190401T145554Z
DESCRIPTION:Seminário: “Biomateriais: desafios\, perspectivas e aplica
 ções”\, Profa. Dra. Samara Silva de Souza (UNILA e UDC)\, dentro da PP
 GFISA.
LAST-MODIFIED;VALUE=DATE-TIME:20190401T145601Z
LOCATION:Bloco 04\, Espaço 03\, Sala 01- Campus UNILA PTI
URL:https://portal.unila.edu.br/eventos/seminario-201cbiomateriais-desafio
 s-perspectivas-e-aplicacoes201d
END:VEVENT
BEGIN:VTIMEZONE
TZID:America/Sao_Paulo
X-LIC-LOCATION:America/Sao_Paulo
BEGIN:STANDARD
DTSTART;VALUE=DATE-TIME:20190216T230000
TZNAME:BRT
TZOFFSETFROM:-0200
TZOFFSETTO:-0300
END:STANDARD
END:VTIMEZONE
END:VCALENDAR
