BEGIN:VCALENDAR
VERSION:2.0
PRODID:-//Plone.org//NONSGML plone.app.event//EN
X-WR-TIMEZONE:America/Buenos_Aires
BEGIN:VEVENT
SUMMARY:Semana Integrada do Servidor 2024
DTSTART;TZID=America/Buenos_Aires;VALUE=DATE-TIME:20241022T090000
DTEND;TZID=America/Buenos_Aires;VALUE=DATE-TIME:20241027T120000
DTSTAMP;VALUE=DATE-TIME:20260424T113751Z
UID:a7202cd55f7340dcbe80ecc5281288a4@portal.unila.edu.br
CREATED;VALUE=DATE-TIME:20241021T175203Z
DESCRIPTION:Começa nesta terça-feira (22) a Semana Integrada do Servidor
  Público. Edição deste ano tem como foco debater\, atualizar e fortalec
 er ações que possam contribuir para melhorar a saúde mental dos servido
 res.
LAST-MODIFIED;VALUE=DATE-TIME:20241021T192845Z
LOCATION:UNILA\, IFPR\, UNIOESTE e RF
URL:https://portal.unila.edu.br/eventos/semana-integrada-do-servidor-2024
END:VEVENT
BEGIN:VTIMEZONE
TZID:America/Buenos_Aires
X-LIC-LOCATION:America/Buenos_Aires
BEGIN:STANDARD
DTSTART;VALUE=DATE-TIME:20090314T230000
TZNAME:ART
TZOFFSETFROM:-0200
TZOFFSETTO:-0300
END:STANDARD
END:VTIMEZONE
END:VCALENDAR
