BEGIN:VCALENDAR
VERSION:2.0
PRODID:-//Plone.org//NONSGML plone.app.event//EN
X-WR-TIMEZONE:America/Buenos_Aires
BEGIN:VEVENT
SUMMARY:Semana Integrada do Servidor
DTSTART;VALUE=DATE:20251029
DTEND;VALUE=DATE:20251107
DTSTAMP;VALUE=DATE-TIME:20260423T133515Z
UID:c1854e07446d499c8bfe8089951edc38@portal.unila.edu.br
CREATED;VALUE=DATE-TIME:20251021T201419Z
DESCRIPTION:Edição deste ano será realizada de 29 de outubro a 6 de nov
 embro e terá como tema “Carreira sustentável”.
LAST-MODIFIED;VALUE=DATE-TIME:20251105T145247Z
URL:https://portal.unila.edu.br/eventos/semana-integrada-do-servidor-2
END:VEVENT
END:VCALENDAR
