BEGIN:VCALENDAR
VERSION:2.0
PRODID:-//Plone.org//NONSGML plone.app.event//EN
X-WR-TIMEZONE:America/Buenos_Aires
BEGIN:VEVENT
SUMMARY:Semana dos Povos Indígenas
DTSTART;TZID=America/Sao_Paulo;VALUE=DATE-TIME:20190412T100000
DTEND;TZID=America/Sao_Paulo;VALUE=DATE-TIME:20190412T110000
DTSTAMP;VALUE=DATE-TIME:20260423T224922Z
UID:23fc78ec8bc04a8f91df3570ef7f7506@portal.unila.edu.br
CREATED;VALUE=DATE-TIME:20190412T140533Z
DESCRIPTION:Durante a semana\, são ofertadas diversas atividades como sa
 ídas de campos para comunidades indígenas\, mesas de debate e apresenta
 ção de projetos de audiovisual.
LAST-MODIFIED;VALUE=DATE-TIME:20190412T140538Z
LOCATION:UNILA - Jardim Universitário - Av. Tarquínio Joslin dos Santos\
 , 1000
URL:https://portal.unila.edu.br/eventos/semana-dos-povos-indigenas
END:VEVENT
BEGIN:VTIMEZONE
TZID:America/Sao_Paulo
X-LIC-LOCATION:America/Sao_Paulo
BEGIN:STANDARD
DTSTART;VALUE=DATE-TIME:20190216T230000
TZNAME:BRT
TZOFFSETFROM:-0200
TZOFFSETTO:-0300
END:STANDARD
END:VTIMEZONE
END:VCALENDAR
