BEGIN:VCALENDAR
VERSION:2.0
PRODID:-//Plone.org//NONSGML plone.app.event//EN
X-WR-TIMEZONE:America/Buenos_Aires
BEGIN:VEVENT
SUMMARY:Semana de Acolhimento ILAACH e ILAESP
DTSTART;VALUE=DATE:20230724
DTEND;VALUE=DATE:20230730
DTSTAMP;VALUE=DATE-TIME:20260423T225015Z
UID:65c9d0572ea14bdeb985f2a1e583f6d0@portal.unila.edu.br
CREATED;VALUE=DATE-TIME:20230726T132829Z
DESCRIPTION:Semana acontece com programação diversa até o dia 29 de jul
 ho
LAST-MODIFIED;VALUE=DATE-TIME:20230726T132834Z
LOCATION:UNILA
URL:https://portal.unila.edu.br/eventos/semana-de-acolhimento-ilaach-e-ila
 esp
END:VEVENT
END:VCALENDAR
