BEGIN:VCALENDAR
VERSION:2.0
PRODID:-//Plone.org//NONSGML plone.app.event//EN
X-WR-TIMEZONE:America/Buenos_Aires
BEGIN:VEVENT
SUMMARY:Semana de Acolhimento 2021
DTSTART;TZID=America/Sao_Paulo;VALUE=DATE-TIME:20211103T093000
DTEND;TZID=America/Sao_Paulo;VALUE=DATE-TIME:20211103T150000
DTSTAMP;VALUE=DATE-TIME:20260423T224921Z
UID:5501ac2fae9a48f495517ca3afd82289@portal.unila.edu.br
CREATED;VALUE=DATE-TIME:20211022T143442Z
DESCRIPTION:UNILA prepara atividades para recepção dos(as) novos(as) est
 udantes\; programação será de 3 a 5 de novembro
LAST-MODIFIED;VALUE=DATE-TIME:20211029T113242Z
URL:https://portal.unila.edu.br/eventos/semana-de-acolhimento-2021
END:VEVENT
BEGIN:VTIMEZONE
TZID:America/Sao_Paulo
X-LIC-LOCATION:America/Sao_Paulo
BEGIN:DAYLIGHT
DTSTART;VALUE=DATE-TIME:20211017T010000
TZNAME:BRST
TZOFFSETFROM:-0300
TZOFFSETTO:-0200
END:DAYLIGHT
END:VTIMEZONE
END:VCALENDAR
