BEGIN:VCALENDAR
VERSION:2.0
PRODID:-//Plone.org//NONSGML plone.app.event//EN
X-WR-TIMEZONE:America/Buenos_Aires
BEGIN:VEVENT
SUMMARY:Semana Acadêmica de Saúde
DTSTART;VALUE=DATE:20240902
DTEND;VALUE=DATE:20240905
DTSTAMP;VALUE=DATE-TIME:20260424T032117Z
UID:bc738745df7c4e978ae88c9a440e8112@portal.unila.edu.br
CONTACT:https://sig.unila.edu.br/eventos/login.xhtml
CREATED;VALUE=DATE-TIME:20240812T155631Z
DESCRIPTION:Com a temática "Desafios da Saúde Coletiva na América Latin
 a"\, evento ocorre com programação diversa entre os dias 2 e 4 de setemb
 ro
LAST-MODIFIED;VALUE=DATE-TIME:20240812T155641Z
LOCATION:UNILA-Jardim Universitário
URL:https://portal.unila.edu.br/eventos/semana-academica-de-saude
END:VEVENT
END:VCALENDAR
