BEGIN:VCALENDAR
VERSION:2.0
PRODID:-//Plone.org//NONSGML plone.app.event//EN
X-WR-TIMEZONE:America/Buenos_Aires
BEGIN:VEVENT
SUMMARY:Semana Acadêmica de História
DTSTART;VALUE=DATE:20231002
DTEND;VALUE=DATE:20231006
DTSTAMP;VALUE=DATE-TIME:20260423T224939Z
UID:ec289aa1b6bc4c95ab1345cf98001e2b@portal.unila.edu.br
CONTACT:https://sig.unila.edu.br/eventos/public/evento/HISTORIA2023
CREATED;VALUE=DATE-TIME:20230911T182922Z
DESCRIPTION:Com o tema "O ofício do historiador e o ensino de História"\
 , evento será realizado entre os dias 2 e 5 de outubro. A submissão de t
 rabalhos pode ser feita até 18 de setembro.
LAST-MODIFIED;VALUE=DATE-TIME:20230927T160906Z
LOCATION:UNILA - Jardim Universitário
URL:https://portal.unila.edu.br/eventos/semana-academica-de-historia
END:VEVENT
END:VCALENDAR
