BEGIN:VCALENDAR
VERSION:2.0
PRODID:-//Plone.org//NONSGML plone.app.event//EN
X-WR-TIMEZONE:America/Buenos_Aires
BEGIN:VEVENT
SUMMARY:Semana Acadêmica de História
DTSTART;VALUE=DATE:20251006
DTEND;VALUE=DATE:20251011
DTSTAMP;VALUE=DATE-TIME:20260424T031958Z
UID:4ca2189a1e3143b48f70cd29b9f768c1@portal.unila.edu.br
CREATED;VALUE=DATE-TIME:20250731T110453Z
DESCRIPTION:Comissão organizadora da Semana Acadêmica de História da UN
 ILA divulga a lista de simpósios temáticos para a edição deste ano do 
 evento\, que ocorre de 6 a 10 de outubro.
LAST-MODIFIED;VALUE=DATE-TIME:20251008T110156Z
URL:https://portal.unila.edu.br/eventos/semana-academica-de-historia-1
END:VEVENT
END:VCALENDAR
