BEGIN:VCALENDAR
VERSION:2.0
PRODID:-//Plone.org//NONSGML plone.app.event//EN
X-WR-TIMEZONE:America/Buenos_Aires
BEGIN:VEVENT
SUMMARY:Semana Acadêmica da Química
DTSTART;TZID=America/Sao_Paulo;VALUE=DATE-TIME:20190917T080000
DTEND;TZID=America/Sao_Paulo;VALUE=DATE-TIME:20190919T230000
DTSTAMP;VALUE=DATE-TIME:20260423T123655Z
UID:7cc68c8aa3d94de3a35471f119ce2968@portal.unila.edu.br
CATEGORIES:química
CREATED;VALUE=DATE-TIME:20190911T173216Z
DESCRIPTION:Minicursos e palestras
LAST-MODIFIED;VALUE=DATE-TIME:20190911T180649Z
LOCATION:UNILA-Jardim Universitário (Avenida Tarquínio Joslin dos Santos
 \, 1000)
URL:https://portal.unila.edu.br/eventos/semana-academica-da-quimica
END:VEVENT
BEGIN:VTIMEZONE
TZID:America/Sao_Paulo
X-LIC-LOCATION:America/Sao_Paulo
BEGIN:STANDARD
DTSTART;VALUE=DATE-TIME:20190216T230000
TZNAME:BRT
TZOFFSETFROM:-0200
TZOFFSETTO:-0300
END:STANDARD
END:VTIMEZONE
END:VCALENDAR
