BEGIN:VCALENDAR
VERSION:2.0
PRODID:-//Plone.org//NONSGML plone.app.event//EN
X-WR-TIMEZONE:America/Buenos_Aires
BEGIN:VEVENT
SUMMARY:Semana Acadêmica da Área de História
DTSTART;TZID=America/Buenos_Aires;VALUE=DATE-TIME:20241125T190000
DTSTAMP;VALUE=DATE-TIME:20260424T101423Z
UID:3d1604e0ebce4fde9831cd39afa96cd6@portal.unila.edu.br
CREATED;VALUE=DATE-TIME:20241121T162727Z
DESCRIPTION:Nesta edição\, o tema será "Ditaduras e Autoritarismo na Am
 érica Latina: História e Memórias".
LAST-MODIFIED;VALUE=DATE-TIME:20241127T180503Z
LOCATION:UNILA - Jardim Universitário
URL:https://portal.unila.edu.br/eventos/semana-academica-area-de-historia
END:VEVENT
BEGIN:VTIMEZONE
TZID:America/Buenos_Aires
X-LIC-LOCATION:America/Buenos_Aires
BEGIN:STANDARD
DTSTART;VALUE=DATE-TIME:20090314T230000
TZNAME:ART
TZOFFSETFROM:-0200
TZOFFSETTO:-0300
END:STANDARD
END:VTIMEZONE
END:VCALENDAR
