BEGIN:VCALENDAR
VERSION:2.0
PRODID:-//Plone.org//NONSGML plone.app.event//EN
X-WR-TIMEZONE:America/Buenos_Aires
BEGIN:VEVENT
SUMMARY:Rumo ao 6° MEC3F-2026
DTSTART;VALUE=DATE:20251104
DTEND;VALUE=DATE:20251108
DTSTAMP;VALUE=DATE-TIME:20260422T154308Z
UID:f32231767cea41d69b9237a5f1affa15@portal.unila.edu.br
CREATED;VALUE=DATE-TIME:20250826T163041Z
DESCRIPTION:Programação científica preparatória para o MEC3F 2026 ser
 á realizada de 4 a 7 de novembro de 2025\, no Itaipu Parquetec\, com even
 tos voltados à área de Física Aplicada.
LAST-MODIFIED;VALUE=DATE-TIME:20251021T122602Z
LOCATION:UNILA - ITAIPU Parquetec
URL:https://portal.unila.edu.br/eventos/rumo-ao-6-mec3f-2026
END:VEVENT
END:VCALENDAR
