BEGIN:VCALENDAR
VERSION:2.0
PRODID:-//Plone.org//NONSGML plone.app.event//EN
X-WR-TIMEZONE:America/Buenos_Aires
BEGIN:VEVENT
SUMMARY:RPG Unileiro
DTSTART;TZID=America/Buenos_Aires;VALUE=DATE-TIME:20240907T140000
DTSTAMP;VALUE=DATE-TIME:20260424T020659Z
UID:035a6e76caa94956a9980abfbd0bfc19@portal.unila.edu.br
CREATED;VALUE=DATE-TIME:20240905T123151Z
DESCRIPTION:Décima primeira edição do Encontro RPG Unileiro ocorre nest
 e sábado (7)\, a partir das 14h\, no Campus Integração.
LAST-MODIFIED;VALUE=DATE-TIME:20240905T123157Z
LOCATION:UNILA-Campus Integração
URL:https://portal.unila.edu.br/eventos/rpg-unileiro
END:VEVENT
BEGIN:VTIMEZONE
TZID:America/Buenos_Aires
X-LIC-LOCATION:America/Buenos_Aires
BEGIN:STANDARD
DTSTART;VALUE=DATE-TIME:20090314T230000
TZNAME:ART
TZOFFSETFROM:-0200
TZOFFSETTO:-0300
END:STANDARD
END:VTIMEZONE
END:VCALENDAR
