BEGIN:VCALENDAR
VERSION:2.0
PRODID:-//Plone.org//NONSGML plone.app.event//EN
X-WR-TIMEZONE:America/Buenos_Aires
BEGIN:VEVENT
SUMMARY:"Roxo que te quero verde"
DTSTART;VALUE=DATE:20250625
DTEND;VALUE=DATE:20250630
DTSTAMP;VALUE=DATE-TIME:20260424T084111Z
UID:7b52b4426cbc4877adac534eadf3d7fd@portal.unila.edu.br
CREATED;VALUE=DATE-TIME:20250611T164931Z
DESCRIPTION:Em celebração ao Dia Mundial do Meio Ambiente\, a PROEX prep
 arou\, para o mês de junho\, ações de projetos de extensão ligados à 
 temática ambiental.
LAST-MODIFIED;VALUE=DATE-TIME:20250626T105741Z
URL:https://portal.unila.edu.br/eventos/roxo-que-te-quero-verde
END:VEVENT
END:VCALENDAR
