BEGIN:VCALENDAR
VERSION:2.0
PRODID:-//Plone.org//NONSGML plone.app.event//EN
X-WR-TIMEZONE:America/Buenos_Aires
BEGIN:VEVENT
SUMMARY:Roda de Conversa - Luiz Carlos Prestes Filho
DTSTART;TZID=America/Buenos_Aires;VALUE=DATE-TIME:20241022T190000
DTSTAMP;VALUE=DATE-TIME:20260423T225055Z
UID:98236e27569446569540c35643895a39@portal.unila.edu.br
CREATED;VALUE=DATE-TIME:20241017T120658Z
DESCRIPTION:Evento ocorrerá no dia 22 de outubro\, às 19h\, no auditóri
 o da UNILA-Campus Integração
LAST-MODIFIED;VALUE=DATE-TIME:20241017T120702Z
LOCATION:Auditório da UNILA-Campus Integração
URL:https://portal.unila.edu.br/eventos/roda-de-conversa-luiz-carlos-prest
 es-filho
END:VEVENT
BEGIN:VTIMEZONE
TZID:America/Buenos_Aires
X-LIC-LOCATION:America/Buenos_Aires
BEGIN:STANDARD
DTSTART;VALUE=DATE-TIME:20090314T230000
TZNAME:ART
TZOFFSETFROM:-0200
TZOFFSETTO:-0300
END:STANDARD
END:VTIMEZONE
END:VCALENDAR
