BEGIN:VCALENDAR
VERSION:2.0
PRODID:-//Plone.org//NONSGML plone.app.event//EN
X-WR-TIMEZONE:America/Buenos_Aires
BEGIN:VEVENT
SUMMARY:Roda de Conversa - Estudantes Indígenas
DTSTART;VALUE=DATE:20231010
DTEND;VALUE=DATE:20231012
DTSTAMP;VALUE=DATE-TIME:20260423T224925Z
UID:78105c494dbd4b87ad4aa8dbae744049@portal.unila.edu.br
CREATED;VALUE=DATE-TIME:20230911T191800Z
DESCRIPTION:Psicólogo Fábio Arevalo\, do povo Guarani Nhandeva\, partici
 pa de uma roda de conversa sobre saúde mental da população indígena\, 
 em outubro\, na UNILA. O profissional ministra\, ainda\, uma aula no PPGIE
 LA.
LAST-MODIFIED;VALUE=DATE-TIME:20230911T191824Z
LOCATION:Jardim Universitário - UNILA
URL:https://portal.unila.edu.br/eventos/roda-de-conversa-estudantes-indige
 nas
END:VEVENT
END:VCALENDAR
