BEGIN:VCALENDAR
VERSION:2.0
PRODID:-//Plone.org//NONSGML plone.app.event//EN
X-WR-TIMEZONE:America/Buenos_Aires
BEGIN:VEVENT
SUMMARY:Roda de conversa entre a comunidade estudantil e a gestão da UNIL
 A
DTSTART;TZID=America/Buenos_Aires;VALUE=DATE-TIME:20240918T170000
DTSTAMP;VALUE=DATE-TIME:20260424T112111Z
UID:3407c8da4c61440bbf67ea6b1371b0a4@portal.unila.edu.br
CREATED;VALUE=DATE-TIME:20240916T220540Z
DESCRIPTION:Momento de escuto acontece na próxima quarta-feira (18)\, às
  17h\, no auditório da UNILA-Campus Integração
LAST-MODIFIED;VALUE=DATE-TIME:20240916T220648Z
LOCATION:Auditório da UNILA-Campus Integração
URL:https://portal.unila.edu.br/eventos/roda-de-conversa-entre-a-comunidad
 e-estudantil-e-a-gestao-da-unila
END:VEVENT
BEGIN:VTIMEZONE
TZID:America/Buenos_Aires
X-LIC-LOCATION:America/Buenos_Aires
BEGIN:STANDARD
DTSTART;VALUE=DATE-TIME:20090314T230000
TZNAME:ART
TZOFFSETFROM:-0200
TZOFFSETTO:-0300
END:STANDARD
END:VTIMEZONE
END:VCALENDAR
