BEGIN:VCALENDAR
VERSION:2.0
PRODID:-//Plone.org//NONSGML plone.app.event//EN
X-WR-TIMEZONE:America/Buenos_Aires
BEGIN:VEVENT
SUMMARY:Roda de conversa em memória do povo tikuna (RÜ AU I TICUNAGÜ WU
 'I) - a lágrima tikuna é uma só - MASSACRE DO CAPACETE
DTSTART;TZID=America/Buenos_Aires;VALUE=DATE-TIME:20230328T140000
DTEND;TZID=America/Buenos_Aires;VALUE=DATE-TIME:20230328T180000
DTSTAMP;VALUE=DATE-TIME:20260424T010320Z
UID:d50e24f00f064633a001580af7c8a44f@portal.unila.edu.br
CONTACT:https://sig.unila.edu.br/eventos/public/evento/RCMPT(TWLTUMC2023
CREATED;VALUE=DATE-TIME:20230320T184328Z
DESCRIPTION:Evento é organizado pelo grupo Pet Conexão de Saberes e comu
 nidade tikuna da UNILA
LAST-MODIFIED;VALUE=DATE-TIME:20230320T184437Z
LOCATION:Jardim Universitário - Sala G-001
URL:https://portal.unila.edu.br/eventos/roda-de-conversa-em-memoria-do-pov
 o-tikuna-ru-au-i-ticunagu-wui-a-lagrima-tikuna-e-uma-so-massacre-do-capace
 te
END:VEVENT
BEGIN:VTIMEZONE
TZID:America/Buenos_Aires
X-LIC-LOCATION:America/Buenos_Aires
BEGIN:STANDARD
DTSTART;VALUE=DATE-TIME:20090314T230000
TZNAME:ART
TZOFFSETFROM:-0200
TZOFFSETTO:-0300
END:STANDARD
END:VTIMEZONE
END:VCALENDAR
