BEGIN:VCALENDAR
VERSION:2.0
PRODID:-//Plone.org//NONSGML plone.app.event//EN
X-WR-TIMEZONE:America/Buenos_Aires
BEGIN:VEVENT
SUMMARY:Atividades de recepção aos ingressantes 2022 (ILAACH)
DTSTART;VALUE=DATE:20220920
DTEND;VALUE=DATE:20220921
DTSTAMP;VALUE=DATE-TIME:20260424T112259Z
UID:ec83af4be8fc4decbf03e5b74ea0cb78@portal.unila.edu.br
CREATED;VALUE=DATE-TIME:20220914T113013Z
DESCRIPTION:As atividades promovidas pelo Instituto Latino-Americano de Ar
 te\, Cultura e História acontecem todas no dia 20/09
LAST-MODIFIED;VALUE=DATE-TIME:20220919T114847Z
LOCATION:Unidade Jardim Universitário (JU)
URL:https://portal.unila.edu.br/eventos/roda-de-conversa-desafios-e-potenc
 ialidades-da-mediacao-de-leitura
END:VEVENT
END:VCALENDAR
