BEGIN:VCALENDAR
VERSION:2.0
PRODID:-//Plone.org//NONSGML plone.app.event//EN
X-WR-TIMEZONE:America/Buenos_Aires
BEGIN:VEVENT
SUMMARY:Roda de conversa com Vanessa Sagica\, do povo makuxi/wapichana
DTSTART;TZID=America/Buenos_Aires;VALUE=DATE-TIME:20231017T100000
DTEND;TZID=America/Buenos_Aires;VALUE=DATE-TIME:20231017T120000
DTSTAMP;VALUE=DATE-TIME:20260424T114255Z
UID:21e5c6e6b335464f8900d2fc7be25775@portal.unila.edu.br
CONTACT:https://sig.unila.edu.br/eventos/public/evento/RCCVS(PMSPDLDPIU202
 3
CREATED;VALUE=DATE-TIME:20231010T145140Z
DESCRIPTION:Roda de conversa sobre políticas e direitos linguísticos dos
  povos indígenas na Universidade acontece no dia 17 de outubro\, às 10h\
 , na UNILA-Campus Integração
LAST-MODIFIED;VALUE=DATE-TIME:20231010T145146Z
LOCATION:UNILA-Campus Integração - Sala A-003
URL:https://portal.unila.edu.br/eventos/roda-de-conversa-com-vanessa-sagic
 a-do-povo-makuxi-wapichana
END:VEVENT
BEGIN:VTIMEZONE
TZID:America/Buenos_Aires
X-LIC-LOCATION:America/Buenos_Aires
BEGIN:STANDARD
DTSTART;VALUE=DATE-TIME:20090314T230000
TZNAME:ART
TZOFFSETFROM:-0200
TZOFFSETTO:-0300
END:STANDARD
END:VTIMEZONE
END:VCALENDAR
