BEGIN:VCALENDAR
VERSION:2.0
PRODID:-//Plone.org//NONSGML plone.app.event//EN
X-WR-TIMEZONE:America/Buenos_Aires
BEGIN:VEVENT
SUMMARY:Revitalização da horta na UNILA
DTSTART;TZID=America/Buenos_Aires;VALUE=DATE-TIME:20251026T160000
DTSTAMP;VALUE=DATE-TIME:20260424T045453Z
UID:39c5d048fab64bf381adc90c630da140@portal.unila.edu.br
CREATED;VALUE=DATE-TIME:20251023T155458Z
DESCRIPTION:Atividade de plantio será no domingo\, 26 de outubro\, às 16
 h\, na horta da UNILA\, no Jardim Universitário. Não é necessário se i
 nscrever nem ter experiência prévia.
LAST-MODIFIED;VALUE=DATE-TIME:20251023T155925Z
LOCATION:UNILA - Jardim Universitário
URL:https://portal.unila.edu.br/eventos/revitalizacao-da-horta-na-unila
END:VEVENT
BEGIN:VTIMEZONE
TZID:America/Buenos_Aires
X-LIC-LOCATION:America/Buenos_Aires
BEGIN:STANDARD
DTSTART;VALUE=DATE-TIME:20090314T230000
TZNAME:ART
TZOFFSETFROM:-0200
TZOFFSETTO:-0300
END:STANDARD
END:VTIMEZONE
END:VCALENDAR
