BEGIN:VCALENDAR
VERSION:2.0
PRODID:-//Plone.org//NONSGML plone.app.event//EN
X-WR-TIMEZONE:America/Buenos_Aires
BEGIN:VEVENT
SUMMARY:Reunião Aberta do Projeto de Extensão - A voz da Juventude
DTSTART;TZID=America/Buenos_Aires;VALUE=DATE-TIME:20220509T140000
DTEND;TZID=America/Buenos_Aires;VALUE=DATE-TIME:20220509T170000
DTSTAMP;VALUE=DATE-TIME:20260423T225203Z
UID:b265e76f3ab14c26b8ff9dc31bc73c63@portal.unila.edu.br
CREATED;VALUE=DATE-TIME:20220503T133045Z
DESCRIPTION:O projeto tem sido um canal de informação\, comunicação e 
 formação quebrando preconceitos sobre a juventude.
LAST-MODIFIED;VALUE=DATE-TIME:20220503T133053Z
LOCATION:Sala C 204 - JU
URL:https://portal.unila.edu.br/eventos/reuniao-aberta-do-projeto-de-exten
 sao-a-voz-da-juventude
END:VEVENT
BEGIN:VTIMEZONE
TZID:America/Buenos_Aires
X-LIC-LOCATION:America/Buenos_Aires
BEGIN:STANDARD
DTSTART;VALUE=DATE-TIME:20090314T230000
TZNAME:ART
TZOFFSETFROM:-0200
TZOFFSETTO:-0300
END:STANDARD
END:VTIMEZONE
END:VCALENDAR
