BEGIN:VCALENDAR
VERSION:2.0
PRODID:-//Plone.org//NONSGML plone.app.event//EN
X-WR-TIMEZONE:America/Buenos_Aires
BEGIN:VEVENT
SUMMARY:Rede socioassistencial de Foz do Iguaçu: impactos na UNILA e comu
 nidade
DTSTART;TZID=America/Sao_Paulo;VALUE=DATE-TIME:20190613T170000
DTEND;TZID=America/Sao_Paulo;VALUE=DATE-TIME:20190613T180000
DTSTAMP;VALUE=DATE-TIME:20260424T010041Z
UID:935f319a8d3f45be8fb3f98e7e70a0d7@portal.unila.edu.br
CREATED;VALUE=DATE-TIME:20190605T152808Z
DESCRIPTION:A palestra será conduzida pela assistente social e professora
  da UNILA Maria Geusina da Silva\; o evento é organizado pelo Programa de
  Educação Tutorial (PET/UNILA)
LAST-MODIFIED;VALUE=DATE-TIME:20190605T180223Z
LOCATION:Sala C106 - UNILA-Jardim Universitário (Avenida Tarquínio Josli
 n dos Santos\, 1000)
URL:https://portal.unila.edu.br/eventos/rede-socioassistencial-de-foz-do-i
 guacu-impactos-na-unila-e-comunidade-1
END:VEVENT
BEGIN:VTIMEZONE
TZID:America/Sao_Paulo
X-LIC-LOCATION:America/Sao_Paulo
BEGIN:STANDARD
DTSTART;VALUE=DATE-TIME:20190216T230000
TZNAME:BRT
TZOFFSETFROM:-0200
TZOFFSETTO:-0300
END:STANDARD
END:VTIMEZONE
END:VCALENDAR
